BEGIN:VCALENDAR
VERSION:2.0
PRODID:-//Beaverton High School Success Fund - ECPv6.15.16//NONSGML v1.0//EN
CALSCALE:GREGORIAN
METHOD:PUBLISH
X-WR-CALNAME:Beaverton High School Success Fund
X-ORIGINAL-URL:https://bhssuccessfund.com
X-WR-CALDESC:Events for Beaverton High School Success Fund
REFRESH-INTERVAL;VALUE=DURATION:PT1H
X-Robots-Tag:noindex
X-PUBLISHED-TTL:PT1H
BEGIN:VTIMEZONE
TZID:America/Los_Angeles
BEGIN:DAYLIGHT
TZOFFSETFROM:-0800
TZOFFSETTO:-0700
TZNAME:PDT
DTSTART:20190310T100000
END:DAYLIGHT
BEGIN:STANDARD
TZOFFSETFROM:-0700
TZOFFSETTO:-0800
TZNAME:PST
DTSTART:20191103T090000
END:STANDARD
BEGIN:DAYLIGHT
TZOFFSETFROM:-0800
TZOFFSETTO:-0700
TZNAME:PDT
DTSTART:20200308T100000
END:DAYLIGHT
BEGIN:STANDARD
TZOFFSETFROM:-0700
TZOFFSETTO:-0800
TZNAME:PST
DTSTART:20201101T090000
END:STANDARD
BEGIN:DAYLIGHT
TZOFFSETFROM:-0800
TZOFFSETTO:-0700
TZNAME:PDT
DTSTART:20210314T100000
END:DAYLIGHT
BEGIN:STANDARD
TZOFFSETFROM:-0700
TZOFFSETTO:-0800
TZNAME:PST
DTSTART:20211107T090000
END:STANDARD
BEGIN:DAYLIGHT
TZOFFSETFROM:-0800
TZOFFSETTO:-0700
TZNAME:PDT
DTSTART:20220313T100000
END:DAYLIGHT
BEGIN:STANDARD
TZOFFSETFROM:-0700
TZOFFSETTO:-0800
TZNAME:PST
DTSTART:20221106T090000
END:STANDARD
END:VTIMEZONE
BEGIN:VEVENT
DTSTART;TZID=America/Los_Angeles:20210506T183000
DTEND;TZID=America/Los_Angeles:20210506T203000
DTSTAMP:20260419T161211
CREATED:20210403T050740Z
LAST-MODIFIED:20210403T191229Z
UID:3602-1620325800-1620333000@bhssuccessfund.com
SUMMARY:The Benefit for Beaverton High School
DESCRIPTION:Your support through BHSSF will continue to make a direct\, positive difference to help ensure ALL Beaverton High School students graduate prepared for\, confident in and excited about the future they choose.
URL:https://bhssuccessfund.com/event/the-benefit-for-beaverton-high-school/
ATTACH;FMTTYPE=image/jpeg:https://bhssuccessfund.com/wp-content/uploads/2019/11/Inspirit2.jpg
END:VEVENT
BEGIN:VEVENT
DTSTART;TZID=America/Los_Angeles:20200416T180000
DTEND;TZID=America/Los_Angeles:20200416T210000
DTSTAMP:20260419T161211
CREATED:20191120T052008Z
LAST-MODIFIED:20200326T213404Z
UID:1865-1587060000-1587070800@bhssuccessfund.com
SUMMARY:Benefit for BHS Fundraiser
DESCRIPTION:As a result of the coronavirus pandemic and in support of the government’s declaration\, we have decided to cancel the Beaverton High School Success Fund BENEFIT Fundraiser on Thursday\, April 16th.\n\nAs both our opportunities and financial needs remain significant\, the BHSSF Board is evaluating an alternative virtual event to help raise funds to support the outstanding learning experiences at Beaverton High School.  We will share more information as details are finalized.\n\nIf you have committed to a sponsorship\, donation\, table captain or purchased an individual ticket to this year’s event\, you can expect to hear from us directly.\n\nThank you for your understanding and support during these unprecedented and challenging times.\n\nJon Caplan\nBeaverton High School Success Fund\nBoard President\njbcaplan@hotmail.com\n\n\n  \nJoin us for BHSSF’s largest fundraising event of the year at the 2020 Benefit for BHS celebration: \nEnjoy a special evening filled with great food\, wine and friends. Get inspired by the incredible achievements happening at Beaverton High School and be part of the school’s future success\, while enjoying opportunities to bid on exclusive raffle items. \nSuggested attire for Benefit for BHS is business casual. \nRegister Here\nSponsors\n 
URL:https://bhssuccessfund.com/event/benefit-for-bhs-fundraiser/
LOCATION:Greatroom\, 15900 SW Regatta Ln.\, Beaverton\, OR\, 97005\, United States
ATTACH;FMTTYPE=image/jpeg:https://bhssuccessfund.com/wp-content/uploads/2019/11/cancelled-scaled.jpg
ORGANIZER;CN="Beaverton High School Success Fund":MAILTO:admin@bhssuccessfund.com
END:VEVENT
END:VCALENDAR